BEGIN:VCALENDAR
VERSION:2.0
PRODID:-//hacksw/handcal//NONSGML v1.0//EN
CALSCALE:GREGORIAN
BEGIN:VTIMEZONE
TZID:America/Kentucky/Louisville
BEGIN:DAYLIGHT
TZOFFSETFROM:-0600
TZNAME:MDT
TZOFFSETTO:-0600
END:DAYLIGHT
END:VTIMEZONE
DTSTAMP:20260419T095336Z
UID:69e4de605edae
BEGIN:VEVENT
LOCATION:Northeast Regional, 15 Bellevoir Circle, Louisville, KY US 40223
DESCRIPTION:<p>Settle in for an afternoon of making cool stuff with a variety of craft supplies. To register call 502-394-0379 or email us at NortheastYouthServices@lfpl.org. Ages 5-17.</p>
DTSTART;TZID=America/Kentucky/Louisville:20260409T140000
DTEND;TZID=America/Kentucky/Louisville:20260409T150000
SUMMARY:Spring Break Crafternoon
URL;VALUE=URI:/spring-break-crafternoon-2
END:VEVENT
END:VCALENDAR