BEGIN:VCALENDAR
VERSION:2.0
PRODID:-//hacksw/handcal//NONSGML v1.0//EN
CALSCALE:GREGORIAN
BEGIN:VTIMEZONE
TZID:America/Kentucky/Louisville
BEGIN:DAYLIGHT
TZOFFSETFROM:-0600
TZNAME:MDT
TZOFFSETTO:-0600
END:DAYLIGHT
END:VTIMEZONE
DTSTAMP:20260419T095101Z
UID:69e4ddc519492
BEGIN:VEVENT
LOCATION:Northeast Regional, 15 Bellevoir Circle, Louisville, KY US 40223
DESCRIPTION:<p>Writers of all levels and abilities are invited to join us in a creative community setting where we will discuss the topic of writing! Patrons are encouraged to read aloud works from a favorite author, or share original work. Ages 18+</p>
DTSTART;TZID=America/Kentucky/Louisville:20260414T183000
DTEND;TZID=America/Kentucky/Louisville:20260414T193000
SUMMARY:Creative Writing Group
URL;VALUE=URI:/creative-writing-group-30
END:VEVENT
END:VCALENDAR