BEGIN:VCALENDAR
VERSION:2.0
PRODID:-//hacksw/handcal//NONSGML v1.0//EN
CALSCALE:GREGORIAN
BEGIN:VTIMEZONE
TZID:America/Kentucky/Louisville
BEGIN:DAYLIGHT
TZOFFSETFROM:-0600
TZNAME:MDT
TZOFFSETTO:-0600
END:DAYLIGHT
END:VTIMEZONE
DTSTAMP:20260419T095101Z
UID:69e4ddc52b01b
BEGIN:VEVENT
LOCATION:Northeast Regional, 15 Bellevoir Circle, Louisville, KY US 40223
DESCRIPTION:<p>Learn the Bob Ross Wet-on-Wet technique. &nbsp;All materials are supplied, and beginners or experienced painters are welcome! &nbsp;Please wear paint friendly clothes.&nbsp;<br>Call 502-394-0379 to register. Ages 18+<br>&nbsp;</p>
DTSTART;TZID=America/Kentucky/Louisville:20260408T130000
DTEND;TZID=America/Kentucky/Louisville:20260408T160000
SUMMARY:Bob Ross Landscape Painting
URL;VALUE=URI:/bob-ross-landscape-painting-8
END:VEVENT
END:VCALENDAR