BEGIN:VCALENDAR
VERSION:2.0
PRODID:-//hacksw/handcal//NONSGML v1.0//EN
CALSCALE:GREGORIAN
BEGIN:VTIMEZONE
TZID:America/Kentucky/Louisville
BEGIN:DAYLIGHT
TZOFFSETFROM:-0600
TZNAME:MDT
TZOFFSETTO:-0600
END:DAYLIGHT
END:VTIMEZONE
DTSTAMP:20260419T100114Z
UID:69e4e02a278b1
BEGIN:VEVENT
LOCATION:Saint Matthews, 3940 Grandview Ave., Louisville, KY US 40207
DESCRIPTION:<p>Learn to play board games from our circulating collection or bring your own games that you would like to play with others. Ages 18+</p>
DTSTART;TZID=America/Kentucky/Louisville:20260402T173000
DTEND;TZID=America/Kentucky/Louisville:20260402T193000
SUMMARY:Adult Board Game Night
URL;VALUE=URI:/adult-board-game-night-24
END:VEVENT
END:VCALENDAR