BEGIN:VCALENDAR
VERSION:2.0
PRODID:-//hacksw/handcal//NONSGML v1.0//EN
CALSCALE:GREGORIAN
BEGIN:VTIMEZONE
TZID:America/Kentucky/Louisville
BEGIN:DAYLIGHT
TZOFFSETFROM:-0600
TZNAME:MDT
TZOFFSETTO:-0600
END:DAYLIGHT
END:VTIMEZONE
DTSTAMP:20260419T095512Z
UID:69e4dec0c0d46
BEGIN:VEVENT
DESCRIPTION:<p style="margin-bottom:0in;">Come catch at movie and at the Portland library! Movie viewings and discussions are separate events.</p><p style="margin-bottom:0in;">April's Movie: One Battle After Another (2026)</p>
DTSTART;TZID=America/Kentucky/Louisville:20260401T173000
DTEND;TZID=America/Kentucky/Louisville:20260401T190000
SUMMARY:Movie Discussion Group - Movie Viewing
URL;VALUE=URI:/movie-discussion-group-movie-viewing-2
END:VEVENT
END:VCALENDAR