BEGIN:VCALENDAR
VERSION:2.0
PRODID:-//hacksw/handcal//NONSGML v1.0//EN
CALSCALE:GREGORIAN
BEGIN:VTIMEZONE
TZID:America/Kentucky/Louisville
BEGIN:DAYLIGHT
TZOFFSETFROM:-0600
TZNAME:MDT
TZOFFSETTO:-0600
END:DAYLIGHT
END:VTIMEZONE
DTSTAMP:20260419T095101Z
UID:69e4ddc530263
BEGIN:VEVENT
LOCATION:Saint Matthews, 3940 Grandview Ave., Louisville, KY US 40207
DESCRIPTION:<p>The Drawing of Three</p>
DTSTART;TZID=America/Kentucky/Louisville:20260408T180000
DTEND;TZID=America/Kentucky/Louisville:20260408T190000
SUMMARY:Stephen King Book Discussion Group
URL;VALUE=URI:/stephen-king-book-discussion-group-18
END:VEVENT
END:VCALENDAR