BEGIN:VCALENDAR
VERSION:2.0
PRODID:-//hacksw/handcal//NONSGML v1.0//EN
CALSCALE:GREGORIAN
BEGIN:VTIMEZONE
TZID:America/Kentucky/Louisville
BEGIN:DAYLIGHT
TZOFFSETFROM:-0600
TZNAME:MDT
TZOFFSETTO:-0600
END:DAYLIGHT
END:VTIMEZONE
DTSTAMP:20260419T095026Z
UID:69e4dda21dd26
BEGIN:VEVENT
LOCATION:Saint Matthews, 3940 Grandview Ave., Louisville, KY US 40207
DESCRIPTION:<p>Anxious People by Fredrik Backman</p>
DTSTART;TZID=America/Kentucky/Louisville:20260409T140000
DTEND;TZID=America/Kentucky/Louisville:20260409T150000
SUMMARY:Afternoon Book Discussion
URL;VALUE=URI:/afternoon-book-discussion-42
END:VEVENT
END:VCALENDAR