BEGIN:VCALENDAR
VERSION:2.0
PRODID:-//hacksw/handcal//NONSGML v1.0//EN
CALSCALE:GREGORIAN
BEGIN:VTIMEZONE
TZID:America/Kentucky/Louisville
BEGIN:DAYLIGHT
TZOFFSETFROM:-0600
TZNAME:MDT
TZOFFSETTO:-0600
END:DAYLIGHT
END:VTIMEZONE
DTSTAMP:20260419T095157Z
UID:69e4ddfdc93f9
BEGIN:VEVENT
LOCATION:Portland, 3305 Northwestern Pkwy, Louisville, KY US 40212
DESCRIPTION:<p style="margin-bottom:0in;">Come catch at movie and at the Portland library! Movie viewings and discussions are separate events.</p><p style="margin-bottom:0in;">April's Movie: One Battle After Another (2026)</p>
DTSTART;TZID=America/Kentucky/Louisville:20260408T180000
DTEND;TZID=America/Kentucky/Louisville:20260408T190000
SUMMARY:Movie Discussion Group - Discussion
URL;VALUE=URI:/movie-discussion-group-discussion-2
END:VEVENT
END:VCALENDAR