BEGIN:VCALENDAR
VERSION:2.0
PRODID:-//hacksw/handcal//NONSGML v1.0//EN
CALSCALE:GREGORIAN
BEGIN:VTIMEZONE
TZID:America/Kentucky/Louisville
BEGIN:DAYLIGHT
TZOFFSETFROM:-0600
TZNAME:MDT
TZOFFSETTO:-0600
END:DAYLIGHT
END:VTIMEZONE
DTSTAMP:20260419T095240Z
UID:69e4de2803a42
BEGIN:VEVENT
LOCATION:Saint Matthews, 3940 Grandview Ave., Louisville, KY US 40207
DESCRIPTION:<p>Exchange houseplant knowledge and cuttings with fellow planty people. Please make sure your cuttings are pest-free and unrooted or rooted only in water. This is a swap/giveaway space, with no sales. Houseplant beginners are welcome!</p>
DTSTART;TZID=America/Kentucky/Louisville:20260411T140000
DTEND;TZID=America/Kentucky/Louisville:20260411T150000
SUMMARY:Houseplant Cutting Swap
URL;VALUE=URI:/houseplant-cutting-swap-4
END:VEVENT
END:VCALENDAR