BEGIN:VCALENDAR
VERSION:2.0
PRODID:-//hacksw/handcal//NONSGML v1.0//EN
CALSCALE:GREGORIAN
BEGIN:VTIMEZONE
TZID:America/Kentucky/Louisville
BEGIN:DAYLIGHT
TZOFFSETFROM:-0600
TZNAME:MDT
TZOFFSETTO:-0600
END:DAYLIGHT
END:VTIMEZONE
DTSTAMP:20260419T095204Z
UID:69e4de04ad157
BEGIN:VEVENT
LOCATION:Saint Matthews, 3940 Grandview Ave., Louisville, KY US 40207
DESCRIPTION:<p>Discover the evolution of Derby fashion. Immerse yourself in the history and stories of influential women like Laska Durnell, Isabelle Dodge Sloane, and Penny Chenery, whose styles shaped Derby fashion. Explore artifacts from the Kentucky Derby Museum and see how fashion trends reflect societal changes.</p>
DTSTART;TZID=America/Kentucky/Louisville:20260413T140000
DTEND;TZID=America/Kentucky/Louisville:20260413T150000
SUMMARY:Derby Fashion through the Decades 
URL;VALUE=URI:/derby-fashion-through-decades-0
END:VEVENT
END:VCALENDAR