BEGIN:VCALENDAR
VERSION:2.0
PRODID:-//hacksw/handcal//NONSGML v1.0//EN
CALSCALE:GREGORIAN
BEGIN:VTIMEZONE
TZID:America/Kentucky/Louisville
BEGIN:DAYLIGHT
TZOFFSETFROM:-0600
TZNAME:MDT
TZOFFSETTO:-0600
END:DAYLIGHT
END:VTIMEZONE
DTSTAMP:20260419T095101Z
UID:69e4ddc57b282
BEGIN:VEVENT
LOCATION:Portland, 3305 Northwestern Pkwy, Louisville, KY US 40212
DESCRIPTION:<p style="margin-bottom:0in;">Take an art break at the Pod and create a unique work each afternoon.<strong>&nbsp;</strong></p><p style="margin-bottom:0in;"><strong>Limit 10</strong>, email&nbsp;<a href="mailto:portlandpod@lfpl.org">portlandpod@lfpl.org</a> or call 502-574-1642 to register. Ages 8-18</p><p style="margin-bottom:0in;">Monday, April 6, 1:30-3: Monoprints</p><p style="margin-bottom:0in;">Tuesday, April 7, 1:30-3: Clay Creations</p><p style="margin-bottom:0in;">Wednesday, April 8, 1:30-3: Shrink Art Bag Charms or Keychain</p><p style="margin-bottom:0in;">Thursday, April 9, 1:30-3: Giant Leaf Prints</p>
DTSTART;TZID=America/Kentucky/Louisville:20260409T133000
DTEND;TZID=America/Kentucky/Louisville:20260409T150000
SUMMARY:Pod Art Breaks
URL;VALUE=URI:/pod-art-breaks-3
END:VEVENT
END:VCALENDAR