BEGIN:VCALENDAR
VERSION:2.0
PRODID:-//hacksw/handcal//NONSGML v1.0//EN
CALSCALE:GREGORIAN
BEGIN:VTIMEZONE
TZID:America/Kentucky/Louisville
BEGIN:DAYLIGHT
TZOFFSETFROM:-0600
TZNAME:MDT
TZOFFSETTO:-0600
END:DAYLIGHT
END:VTIMEZONE
DTSTAMP:20260419T095025Z
UID:69e4dda1a89a7
BEGIN:VEVENT
LOCATION:Portland, 3305 Northwestern Pkwy, Louisville, KY US 40212
DESCRIPTION:<p><span style="font-family:&quot;Baskerville Old Face&quot;,serif;font-size:12.0pt;line-height:107%;">On Monday and Wednesday, kids ages 4 to 18 are invited to glue found objects onto a collaborative tabletop sculpture. On Friday we will paint our creation!</span></p>
DTSTART;TZID=America/Kentucky/Louisville:20260410T150000
DTEND;TZID=America/Kentucky/Louisville:20260410T160000
SUMMARY:Glue Table
URL;VALUE=URI:/glue-table-2
END:VEVENT
END:VCALENDAR