BEGIN:VCALENDAR
VERSION:2.0
PRODID:-//hacksw/handcal//NONSGML v1.0//EN
CALSCALE:GREGORIAN
BEGIN:VTIMEZONE
TZID:America/Kentucky/Louisville
BEGIN:DAYLIGHT
TZOFFSETFROM:-0600
TZNAME:MDT
TZOFFSETTO:-0600
END:DAYLIGHT
END:VTIMEZONE
DTSTAMP:20260419T095025Z
UID:69e4dda1847e0
BEGIN:VEVENT
LOCATION:Portland, 3305 Northwestern Pkwy, Louisville, KY US 40212
DESCRIPTION:<p>Join Miss Lizzie to explore over a dozen instruments from around the world. From violins and guitars to kalimbas and ocarinas, there will be something for all ages (0 to 18 and their caregivers!) and all abilities. Ear protection is encouraged.</p>
DTSTART;TZID=America/Kentucky/Louisville:20260407T150000
DTEND;TZID=America/Kentucky/Louisville:20260407T160000
SUMMARY:Music Days
URL;VALUE=URI:/music-days-1
END:VEVENT
END:VCALENDAR