BEGIN:VCALENDAR
VERSION:2.0
PRODID:-//hacksw/handcal//NONSGML v1.0//EN
CALSCALE:GREGORIAN
BEGIN:VTIMEZONE
TZID:America/Kentucky/Louisville
BEGIN:DAYLIGHT
TZOFFSETFROM:-0600
TZNAME:MDT
TZOFFSETTO:-0600
END:DAYLIGHT
END:VTIMEZONE
DTSTAMP:20260421T062711Z
UID:69e750ff9095a
BEGIN:VEVENT
LOCATION:Saint Matthews, 3940 Grandview Ave., Louisville, KY US 40207
DESCRIPTION:<p>Encourage imagination and free play with your kiddos and let them transform ordinary cardboard into creative masterpieces! &nbsp;Ages 2-12</p>
DTSTART;TZID=America/Kentucky/Louisville:20260314T100000
DTEND;TZID=America/Kentucky/Louisville:20260314T110000
SUMMARY:Cardboard Box Play
URL;VALUE=URI:/cardboard-box-play-0
END:VEVENT
END:VCALENDAR