BEGIN:VCALENDAR
VERSION:2.0
PRODID:-//hacksw/handcal//NONSGML v1.0//EN
CALSCALE:GREGORIAN
BEGIN:VTIMEZONE
TZID:America/Kentucky/Louisville
BEGIN:DAYLIGHT
TZOFFSETFROM:-0600
TZNAME:MDT
TZOFFSETTO:-0600
END:DAYLIGHT
END:VTIMEZONE
DTSTAMP:20260423T115637Z
UID:69ea4135836f0
BEGIN:VEVENT
LOCATION:Saint Matthews, 3940 Grandview Ave., Louisville, KY US 40207
DESCRIPTION:<p>Drop by to check out some fantastic bargains in our wide selection of gently used books. All proceeds benefit the St. Matthews Friends of the Library. Cash only. Exact change is appreciated.</p>
DTSTART;TZID=America/Kentucky/Louisville:20260321T100000
DTEND;TZID=America/Kentucky/Louisville:20260321T163000
SUMMARY:St. Matthews Friends of the Library Booksale
URL;VALUE=URI:/st-matthews-friends-library-booksale-6
END:VEVENT
END:VCALENDAR