BEGIN:VCALENDAR
VERSION:2.0
PRODID:-//hacksw/handcal//NONSGML v1.0//EN
CALSCALE:GREGORIAN
BEGIN:VTIMEZONE
TZID:America/Kentucky/Louisville
BEGIN:DAYLIGHT
TZOFFSETFROM:-0600
TZNAME:MDT
TZOFFSETTO:-0600
END:DAYLIGHT
END:VTIMEZONE
DTSTAMP:20260419T095740Z
UID:69e4df54d9c6f
BEGIN:VEVENT
DESCRIPTION:<div class="flex flex-col text-sm pb-25"><article class="text-token-text-primary w-full focus:outline-none [--shadow-height:45px] has-data-writing-block:pointer-events-none has-data-writing-block:-mt-(--shadow-height) has-data-writing-block:pt-(--shadow-height) [&amp;:has([data-writing-block])&gt;*]:pointer-events-auto [content-visibility:auto] supports-[content-visibility:auto]:[contain-intrinsic-size:auto_100lvh] scroll-mt-[calc(var(--header-height)+min(200px,max(70px,20svh)))]" tabindex="-1" dir="auto" data-turn-id="request-WEB:84dea674-a06e-4c5a-af0f-f2b9ccc1fa66-0" data-testid="conversation-turn-2" data-scroll-anchor="true" data-turn="assistant"><div class="text-base my-auto mx-auto pb-10 [--thread-content-margin:--spacing(4)] @w-sm/main:[--thread-content-margin:--spacing(6)] @w-lg/main:[--thread-content-margin:--spacing(16)] px-(--thread-content-margin)"><div class="[--thread-content-max-width:40rem] @w-lg/main:[--thread-content-max-width:48rem] mx-auto max-w-(--thread-content-max-width) flex-1 group/turn-messages focus-visible:outline-hidden relative flex w-full min-w-0 flex-col agent-turn" tabindex="-1"><div class="flex max-w-full flex-col grow"><div class="min-h-8 text-message relative flex w-full flex-col items-end gap-2 text-start break-words whitespace-normal [.text-message+&amp;]:mt-1" data-message-author-role="assistant" data-message-id="3b986703-e5c4-4bbd-b8ce-a58894100f18" dir="auto" data-message-model-slug="gpt-5-2"><div class="flex w-full flex-col gap-1 empty:hidden first:pt-[1px]"><div class="markdown prose dark:prose-invert w-full wrap-break-word light markdown-new-styling"><p data-start="0" data-end="378" data-is-last-node="" data-is-only-node="">Discover creative mark-making at the <span class="hover:entity-accent entity-underline inline cursor-pointer align-baseline whitespace-normal">Louisville Free Public Library</span> by using unconventional tools such as stones, sticks, utensils, flowers, and more to paint with ink. &nbsp;This relaxed, process-focused workshop invites curiosity, mindfulness, and art-making without pressure.</p></div></div></div></div><div class="z-0 flex min-h-[46px] justify-start">&nbsp;</div><div class="mt-3 w-full empty:hidden"><div class="text-center">&nbsp;</div></div></div></div></article></div><div class="pointer-events-none h-px w-px absolute bottom-0" aria-hidden="true" data-edge="true">&nbsp;</div>
DTSTART;TZID=America/Kentucky/Louisville:20260404T130000
DTEND;TZID=America/Kentucky/Louisville:20260404T150000
SUMMARY:Unconventional Mark Making Workshop
URL;VALUE=URI:/unconventional-mark-making-workshop-0
END:VEVENT
END:VCALENDAR