BEGIN:VCALENDAR
VERSION:2.0
PRODID:-//hacksw/handcal//NONSGML v1.0//EN
CALSCALE:GREGORIAN
BEGIN:VTIMEZONE
TZID:America/Kentucky/Louisville
BEGIN:DAYLIGHT
TZOFFSETFROM:-0600
TZNAME:MDT
TZOFFSETTO:-0600
END:DAYLIGHT
END:VTIMEZONE
DTSTAMP:20260419T095157Z
UID:69e4ddfdaae31
BEGIN:VEVENT
LOCATION:Portland, 3305 Northwestern Pkwy, Louisville, KY US 40212
DESCRIPTION:<p style="margin-bottom:0in;">Let your creativity lead the way as you create a watercolor bookmark! Ages 8-18. Limit 10, email&nbsp;<a href="mailto:portlandpod@lfpl.org">portlandpod@lfpl.org</a> or call 502-574-1642 to register. Ages 8-18</p>
DTSTART;TZID=America/Kentucky/Louisville:20260411T133000
DTEND;TZID=America/Kentucky/Louisville:20260411T150000
SUMMARY:Pod Kids and Teens Day: Watercolor Bookmarks
URL;VALUE=URI:/pod-kids-and-teens-day-watercolor-bookmarks-0
END:VEVENT
END:VCALENDAR