BEGIN:VCALENDAR
VERSION:2.0
PRODID:-//hacksw/handcal//NONSGML v1.0//EN
CALSCALE:GREGORIAN
BEGIN:VTIMEZONE
TZID:America/Kentucky/Louisville
BEGIN:DAYLIGHT
TZOFFSETFROM:-0600
TZNAME:MDT
TZOFFSETTO:-0600
END:DAYLIGHT
END:VTIMEZONE
DTSTAMP:20260419T095600Z
UID:69e4def0d2b23
BEGIN:VEVENT
DESCRIPTION:<p><span style="-webkit-text-stroke-width:0px;background-color:rgb(255, 255, 255);color:rgb(33, 33, 33);display:inline !important;float:none;font-family:Calibri, sans-serif;font-size:14.6667px;font-style:normal;font-variant-caps:normal;font-variant-ligatures:normal;font-weight:400;letter-spacing:normal;orphans:2;text-align:start;text-decoration-color:initial;text-decoration-style:initial;text-decoration-thickness:initial;text-indent:0px;text-transform:none;white-space:normal;widows:2;word-spacing:0px;">Learn how to use a knitting machine to make a hat and a loom to make a scarf, all materials provided! Ages 16+</span></p>
DTSTART;TZID=America/Kentucky/Louisville:20260402T180000
DTEND;TZID=America/Kentucky/Louisville:20260402T193000
SUMMARY:Knifty Knitting
URL;VALUE=URI:/knifty-knitting-3
END:VEVENT
END:VCALENDAR