BEGIN:VCALENDAR
VERSION:2.0
PRODID:-//hacksw/handcal//NONSGML v1.0//EN
CALSCALE:GREGORIAN
BEGIN:VTIMEZONE
TZID:America/Kentucky/Louisville
BEGIN:DAYLIGHT
TZOFFSETFROM:-0600
TZNAME:MDT
TZOFFSETTO:-0600
END:DAYLIGHT
END:VTIMEZONE
DTSTAMP:20260419T095025Z
UID:69e4dda1be764
BEGIN:VEVENT
LOCATION:South Central Regional, 7300 Jefferson Boulevard, Louisville, KY US 40219
DESCRIPTION:<p>In the mid-seventies, Kentucky native Gary Stewart’s crazed hits, including “She’s Actin’ Single (I’m Drinkin’ Doubles)” and “Drinkin’ Thing,” rocketed him to the top of the charts, earning him the admiration of Bob Dylan, The Allman Brothers Band, and Tanya Tucker. Within a few years though, he had flamed out and all-but-vanished from the music scene. Gary Stewart: I Am From the Honky Tonks tells the outrageous tale of a true country outlaw, told in bestselling author Jimmy McDonough's inimitable two-fisted style. &nbsp;In conversation with WFPK's Michael Young, host of Roots n' Boots</p><p>This is a free event, but registration is requested.&nbsp;<a href="https://www.lfpl.org/register"> Click her to reserve your seat.</a></p>
DTSTART;TZID=America/Kentucky/Louisville:20260409T183000
DTEND;TZID=America/Kentucky/Louisville:20260409T200000
SUMMARY:Author Event:  Jimmy McDonough In Conversation with Michael Young
URL;VALUE=URI:/author-event-jimmy-mcdonough-conversation-michael-young-0
END:VEVENT
END:VCALENDAR