BEGIN:VCALENDAR
VERSION:2.0
PRODID:-//hacksw/handcal//NONSGML v1.0//EN
CALSCALE:GREGORIAN
BEGIN:VTIMEZONE
TZID:America/Kentucky/Louisville
BEGIN:DAYLIGHT
TZOFFSETFROM:-0600
TZNAME:MDT
TZOFFSETTO:-0600
END:DAYLIGHT
END:VTIMEZONE
DTSTAMP:20260419T095740Z
UID:69e4df5472a4e
BEGIN:VEVENT
DESCRIPTION:<p><span style="-webkit-text-stroke-width:0px;background-color:rgb(255, 255, 255);color:rgb(40, 40, 40);font-family:Helvetica, Arial, sans-serif;font-size:19.2px;font-style:normal;font-variant-caps:normal;font-variant-ligatures:normal;font-weight:400;letter-spacing:normal;orphans:2;text-align:start;text-decoration-color:initial;text-decoration-style:initial;text-decoration-thickness:initial;text-indent:0px;text-transform:none;white-space:normal;widows:2;word-spacing:0px;">Join us at the Western Library for our monthly book club! Our book for the month of March will be&nbsp;</span><em style="-webkit-text-stroke-width:0px;background-color:rgb(255, 255, 255);box-sizing:inherit;color:rgb(40, 40, 40);font-family:Helvetica, Arial, sans-serif;font-size:19.2px;font-variant-caps:normal;font-variant-ligatures:normal;font-weight:400;letter-spacing:normal;line-height:1.5;orphans:2;text-align:start;text-decoration-color:initial;text-decoration-style:initial;text-decoration-thickness:initial;text-indent:0px;text-transform:none;white-space:normal;widows:2;word-spacing:0px;"><strong style="box-sizing:inherit;line-height:1.5;">The Book of Delights&nbsp;</strong></em><span style="-webkit-text-stroke-width:0px;background-color:rgb(255, 255, 255);color:rgb(40, 40, 40);font-family:Helvetica, Arial, sans-serif;font-size:19.2px;font-style:normal;font-variant-caps:normal;font-variant-ligatures:normal;font-weight:400;letter-spacing:normal;orphans:2;text-align:start;text-decoration-color:initial;text-decoration-style:initial;text-decoration-thickness:initial;text-indent:0px;text-transform:none;white-space:normal;widows:2;word-spacing:0px;">by Ross Gay.</span></p>
DTSTART;TZID=America/Kentucky/Louisville:20260403T110000
DTEND;TZID=America/Kentucky/Louisville:20260403T130000
SUMMARY:Western Library Book Club 
URL;VALUE=URI:/western-library-book-club-0
END:VEVENT
END:VCALENDAR