BEGIN:VCALENDAR
VERSION:2.0
PRODID:-//hacksw/handcal//NONSGML v1.0//EN
CALSCALE:GREGORIAN
BEGIN:VTIMEZONE
TZID:America/Kentucky/Louisville
BEGIN:DAYLIGHT
TZOFFSETFROM:-0600
TZNAME:MDT
TZOFFSETTO:-0600
END:DAYLIGHT
END:VTIMEZONE
DTSTAMP:20260419T095301Z
UID:69e4de3d71a60
BEGIN:VEVENT
DESCRIPTION:<p>Join us at Western at the Western Library for Part 1 of a 2 Part Workshop. Attendees will spend this first meeting sculpting wind chime components out of air-dry clay.</p>
DTSTART;TZID=America/Kentucky/Louisville:20260502T130000
DTEND;TZID=America/Kentucky/Louisville:20260502T143000
SUMMARY:Ring in the Spring: Wind Chime Making Workshop – Part 1
URL;VALUE=URI:/ring-spring-wind-chime-making-workshop-part-1-0
END:VEVENT
END:VCALENDAR