BEGIN:VCALENDAR
VERSION:2.0
PRODID:-//hacksw/handcal//NONSGML v1.0//EN
CALSCALE:GREGORIAN
BEGIN:VTIMEZONE
TZID:America/Kentucky/Louisville
BEGIN:DAYLIGHT
TZOFFSETFROM:-0600
TZNAME:MDT
TZOFFSETTO:-0600
END:DAYLIGHT
END:VTIMEZONE
DTSTAMP:20260419T095025Z
UID:69e4dda185e8d
BEGIN:VEVENT
LOCATION:Middletown, 12556 Shelbyville Road, Louisville, KY US 40243
DESCRIPTION:<p>Come and discuss Maame by Jessica George</p>
DTSTART;TZID=America/Kentucky/Louisville:20260409T183000
DTEND;TZID=America/Kentucky/Louisville:20260409T193000
SUMMARY:Night Owls Book Club
URL;VALUE=URI:/night-owls-book-club-10
END:VEVENT
END:VCALENDAR