BEGIN:VCALENDAR
VERSION:2.0
PRODID:-//hacksw/handcal//NONSGML v1.0//EN
CALSCALE:GREGORIAN
BEGIN:VTIMEZONE
TZID:America/Kentucky/Louisville
BEGIN:DAYLIGHT
TZOFFSETFROM:-0600
TZNAME:MDT
TZOFFSETTO:-0600
END:DAYLIGHT
END:VTIMEZONE
DTSTAMP:20260419T095239Z
UID:69e4de276fdc5
BEGIN:VEVENT
LOCATION:Northeast Regional, 15 Bellevoir Circle, Louisville, KY US 40223
DESCRIPTION:<p>Join us for a culturally diverse story time in both English, and Arabic, sharing stories and songs of other cultures. &nbsp;To register, call 502-394-0379 or email <a href="mailto:northeastyouthservices@lfpl.org">northeastyouthservices@lfpl.org</a> Ages 2 - 7</p>
DTSTART;TZID=America/Kentucky/Louisville:20260411T140000
DTEND;TZID=America/Kentucky/Louisville:20260411T150000
SUMMARY:Arabic Story Time
URL;VALUE=URI:/arabic-story-time-1
END:VEVENT
END:VCALENDAR