BEGIN:VCALENDAR
VERSION:2.0
PRODID:-//hacksw/handcal//NONSGML v1.0//EN
CALSCALE:GREGORIAN
BEGIN:VTIMEZONE
TZID:America/Kentucky/Louisville
BEGIN:DAYLIGHT
TZOFFSETFROM:-0600
TZNAME:MDT
TZOFFSETTO:-0600
END:DAYLIGHT
END:VTIMEZONE
DTSTAMP:20260419T095204Z
UID:69e4de0494f5a
BEGIN:VEVENT
LOCATION:Parkland, 2743 Virginia Ave, Louisville, KY US 40211
DESCRIPTION:<p>Participants will work with Jefferson County Master Gardeners to help develop a working plan for their very own Vegetable Garden. We will assist in mapping out a starter garden and provide seeds to assure success! &nbsp;Ages 7- adult</p>
DTSTART;TZID=America/Kentucky/Louisville:20260409T140000
DTEND;TZID=America/Kentucky/Louisville:20260409T150000
SUMMARY:Plan Your Vegetable Garden
URL;VALUE=URI:/plan-your-vegetable-garden-8
END:VEVENT
END:VCALENDAR