BEGIN:VCALENDAR
VERSION:2.0
PRODID:-//hacksw/handcal//NONSGML v1.0//EN
CALSCALE:GREGORIAN
BEGIN:VTIMEZONE
TZID:America/Kentucky/Louisville
BEGIN:DAYLIGHT
TZOFFSETFROM:-0600
TZNAME:MDT
TZOFFSETTO:-0600
END:DAYLIGHT
END:VTIMEZONE
DTSTAMP:20260419T095301Z
UID:69e4de3d92b9c
BEGIN:VEVENT
DESCRIPTION:<div style="border:1.0pt solid windowtext;padding:1.0pt 4.0pt;"><p style="border-style:none;padding:0in;tab-stops:4.5pt .8in 1.1in 3.2in;"><span style="font-size:12.0pt;">Participants explore the history, culture, geography, and oral traditions surrounding fairy tales as they learn to perform three timeless stories from different regions and eras. Fairy Tales from Around the World is an excellent introduction to drama and storytelling, using performance to build teamwork and self-confidence while exploring the many lessons and morals found within folk tales. Ages 3-9.</span></p></div>
DTSTART;TZID=America/Kentucky/Louisville:20260407T140000
DTEND;TZID=America/Kentucky/Louisville:20260407T150000
SUMMARY:Kentucky Shakespeare: Fairy Tales from Around the World
URL;VALUE=URI:/kentucky-shakespeare-fairy-tales-around-world-0
END:VEVENT
END:VCALENDAR