BEGIN:VCALENDAR
VERSION:2.0
PRODID:-//hacksw/handcal//NONSGML v1.0//EN
CALSCALE:GREGORIAN
BEGIN:VTIMEZONE
TZID:America/Kentucky/Louisville
BEGIN:DAYLIGHT
TZOFFSETFROM:-0600
TZNAME:MDT
TZOFFSETTO:-0600
END:DAYLIGHT
END:VTIMEZONE
DTSTAMP:20260419T095157Z
UID:69e4ddfda19e3
BEGIN:VEVENT
DESCRIPTION:<div style="border:1.0pt solid windowtext;padding:1.0pt 4.0pt;"><p style="border-style:none;padding:0in;"><span style="font-size:12.0pt;">Join UpBeat Louisville for 45 minutes of jamming fun. The Rhythm Kids program explores music, movement and drumming. We'll undertake traditional drumming patterns, create animal movements, and sing and dance to music from around the world. Through music, we’ll help children find new ways to connect mind, body and voice and play active musical games that are both enriching and totally fun! Ages 4-8.</span><span style="font-size:12.0pt;"></span></p></div>
DTSTART;TZID=America/Kentucky/Louisville:20260408T100000
DTEND;TZID=America/Kentucky/Louisville:20260408T110000
SUMMARY:Rhythm Kids® with UpBeat Louisville! 
URL;VALUE=URI:/rhythm-kidsr-upbeat-louisville-0
END:VEVENT
END:VCALENDAR