BEGIN:VCALENDAR
VERSION:2.0
PRODID:-//hacksw/handcal//NONSGML v1.0//EN
CALSCALE:GREGORIAN
BEGIN:VTIMEZONE
TZID:America/Kentucky/Louisville
BEGIN:DAYLIGHT
TZOFFSETFROM:-0600
TZNAME:MDT
TZOFFSETTO:-0600
END:DAYLIGHT
END:VTIMEZONE
DTSTAMP:20260419T095009Z
UID:69e4dd912e6e5
BEGIN:VEVENT
DESCRIPTION:<p><span style="-webkit-text-stroke-width:0px;background-color:rgb(255, 255, 255);color:rgb(0, 0, 0);display:inline !important;float:none;font-family:Calibri, Helvetica, sans-serif, serif, EmojiFont;font-size:16px;font-style:normal;font-variant-caps:normal;font-variant-ligatures:normal;font-weight:400;letter-spacing:normal;orphans:2;text-align:start;text-decoration-color:initial;text-decoration-style:initial;text-decoration-thickness:initial;text-indent:0px;text-transform:none;white-space:normal;widows:2;word-spacing:0px;">Play with playdough at the library; all the fun without having to worry about the mess! Great for developing hand strength and coordination, as well as relieving stress. For ages 2-12 and their caregivers.</span></p>
DTSTART;TZID=America/Kentucky/Louisville:20260406T140000
DTEND;TZID=America/Kentucky/Louisville:20260406T150000
SUMMARY:Family Playdough Playdate
URL;VALUE=URI:/family-playdough-playdate-2
END:VEVENT
END:VCALENDAR