BEGIN:VCALENDAR
VERSION:2.0
PRODID:-//hacksw/handcal//NONSGML v1.0//EN
CALSCALE:GREGORIAN
BEGIN:VTIMEZONE
TZID:America/Kentucky/Louisville
BEGIN:DAYLIGHT
TZOFFSETFROM:-0600
TZNAME:MDT
TZOFFSETTO:-0600
END:DAYLIGHT
END:VTIMEZONE
DTSTAMP:20260419T095025Z
UID:69e4dda18148a
BEGIN:VEVENT
LOCATION:Newburg, 4800 Exeter Ave., Louisville, KY US 40218
DESCRIPTION:<p style="-webkit-text-stroke-width:0px;background-color:white;color:rgb(0, 0, 0);font-family:Calibri, Helvetica, sans-serif, serif, EmojiFont;font-size:16px;font-style:normal;font-variant-caps:normal;font-variant-ligatures:normal;font-weight:400;letter-spacing:normal;margin:0in;orphans:2;text-align:start;text-decoration-color:initial;text-decoration-style:initial;text-decoration-thickness:initial;text-indent:0px;text-transform:none;white-space:normal;widows:2;word-spacing:0px;"><span style="color:black;font-family:Calibri, sans-serif, serif, EmojiFont;font-size:11pt;">Come build together with Lego bricks, blocks, and/or a variety of other building sets for various ages and stages. Family-friendly, all ages.</span><span style="font-family:Calibri, sans-serif, serif, EmojiFont;font-size:11pt;"></span></p><p><br>&nbsp;</p><p style="-webkit-text-stroke-width:0px;background-color:rgb(255, 255, 255);color:rgb(0, 0, 0);font-family:Calibri, Helvetica, sans-serif, serif, EmojiFont;font-size:16px;font-style:normal;font-variant-caps:normal;font-variant-ligatures:normal;font-weight:400;letter-spacing:normal;margin-bottom:0px;margin-top:0px;orphans:2;text-align:start;text-decoration-color:initial;text-decoration-style:initial;text-decoration-thickness:initial;text-indent:0px;text-transform:none;white-space:normal;widows:2;word-spacing:0px;">&nbsp;</p><p><br>&nbsp;</p>
DTSTART;TZID=America/Kentucky/Louisville:20260411T103000
DTEND;TZID=America/Kentucky/Louisville:20260411T113000
SUMMARY:Family Fun - Construction Zone
URL;VALUE=URI:/family-fun-construction-zone-0
END:VEVENT
END:VCALENDAR